BEGIN:VCALENDAR
VERSION:2.0
PRODID:-//ChamberMaster//Event Calendar 2.0//EN
METHOD:PUBLISH
X-PUBLISHED-TTL:P3D
REFRESH-INTERVAL:P3D
CALSCALE:GREGORIAN
BEGIN:VEVENT
DTSTART:20251005T160000Z
DTEND:20251005T190000Z
X-MICROSOFT-CDO-ALLDAYEVENT:FALSE
SUMMARY:Kalmus Car Meet
DESCRIPTION:The Greater Hyannis Chamber of Commerce is happy to announce that we have partnered with the Cape Cod Classics Car Club for the Cruise to Kalmus Car Meet on Sunday\, October 5th. This car event will begin with a parade of the Classic\, Vintage Cars and Trucks down Main Street\, Hyannis at Noon to end at Kalmus Beach for all car enthusiasts to enjoy until 3pm.
X-ALT-DESC;FMTTYPE=text/html:The Greater Hyannis Chamber of Commerce is happy to announce that we have partnered with the Cape Cod Classics Car Club for the Cruise to Kalmus Car Meet on Sunday\, October 5th. This car event will begin with a parade of the Classic\, Vintage Cars and Trucks down Main Street\, Hyannis at Noon to end at Kalmus Beach for all car enthusiasts to enjoy until 3pm.
LOCATION:Kalmus Beach\, Hyannis\, MA
UID:e.3261.3778
SEQUENCE:3
DTSTAMP:20260421T213742Z
URL:https://business.hyannis.com/events/details/kalmus-car-meet-3778
END:VEVENT

END:VCALENDAR
