BEGIN:VCALENDAR
VERSION:2.0
PRODID:-//ChamberMaster//Event Calendar 2.0//EN
METHOD:PUBLISH
X-PUBLISHED-TTL:P3D
REFRESH-INTERVAL:P3D
CALSCALE:GREGORIAN
BEGIN:VEVENT
DTSTART:20250603T220000Z
DTEND:20250604T003000Z
X-MICROSOFT-CDO-ALLDAYEVENT:FALSE
SUMMARY:Learn How to Sculpt in Clay with Neil Grant
DESCRIPTION:8 Tuesdays\, Jun 3-Jul 15\, 6-830pm. Have you ever wanted to make a sculpture in clay but thought that it was too difficult? In this class\, sculpting instructor Neil Grant will teach you a method for creating sculptures that simplifies the sculpting process and makes it both engaging and fun. It doesn't matter whether the sculpture is a person\, an animal\, an inanimate object\, or a work of your imagination\, Neil will teach you how to see your subject as a simplified set of shapes that you can combine together and then refine through a series of steps into a final piece. Students are encouraged to bring their own ideas\, or you can simply do one of the class projects. No experience is needed\, just a desire to learn and to create. Tools will be provided but students are welcome to bring their own preferred ones if they have them. Each student will receive a 25lb bag of clay. $350 Members\, $390 Not-Yet-Members. To register visit www.cultural-center.org or call 508-394-7100. Cultural Center of Cape Cod\, 307 Old Main St.\, South Yarmouth.
X-ALT-DESC;FMTTYPE=text/html:8 Tuesdays\, Jun 3-Jul 15\, 6-830pm. Have you ever wanted to make a sculpture in clay but thought that it was too difficult? In this class\, sculpting instructor Neil Grant will teach you a method for creating sculptures that simplifies the sculpting process and makes it both engaging and fun. It doesn&rsquo\;t matter whether the sculpture is a person\, an animal\, an inanimate object\, or a work of your imagination\, Neil will teach you how to see your subject as a simplified set of shapes that you can combine together and then refine through a series of steps into a final piece. Students are encouraged to bring their own ideas\, or you can simply do one of the class projects. No experience is needed\, just a desire to learn and to create. Tools will be provided but students are welcome to bring their own preferred ones if they have them. Each student will receive a 25lb bag of clay. $350 Members\, $390 Not-Yet-Members. To register visit www.cultural-center.org or call 508-394-7100. Cultural Center of Cape Cod\, 307 Old Main St.\, South Yarmouth.
LOCATION:Cultural Center of Cape Cod 307 Old Main St.\, South Yarmouth
UID:e.3261.3325
SEQUENCE:3
DTSTAMP:20260421T150703Z
URL:https://business.hyannis.com/events/details/learn-how-to-sculpt-in-clay-with-neil-grant-06-03-2025-3325
END:VEVENT

END:VCALENDAR
