BEGIN:VCALENDAR
VERSION:2.0
PRODID:-//ChamberMaster//Event Calendar 2.0//EN
METHOD:PUBLISH
X-PUBLISHED-TTL:P3D
REFRESH-INTERVAL:P3D
CALSCALE:GREGORIAN
BEGIN:VEVENT
DTSTART:20251128T220000Z
DTEND:20251129T010000Z
X-MICROSOFT-CDO-ALLDAYEVENT:FALSE
SUMMARY:Left Center Right Game Night at Barnstable Brewing
DESCRIPTION:Left Right Center Game Night November 28th at Barnstable Brewing Hyannis $40.00 Join us for a fun filled evening of Left Right Center. A fast\, easy\, and fun dice game. Your ticket includes three rounds of play. We start the night with a practice round and teach you how to play. Cash prizes for winners Doors open at 5 pm. Games start at 6 pm. promptly Living Las Vegas will be crooning out some of your favorite tunes. Food and beverage will be available for purchase.
X-ALT-DESC;FMTTYPE=text/html:Left Right Center Game Night November 28th at Barnstable Brewing Hyannis $40.00 Join us for a fun filled evening of Left Right Center. A fast\, easy\, and fun dice game. Your ticket includes three rounds of play. We start the night with a practice round and teach you how to play. Cash prizes for winners Doors open at 5 pm. Games start at 6 pm. promptly Living Las Vegas will be crooning out some of your favorite tunes. Food and beverage will be available for purchase.
LOCATION:Barnstable Brewing 485 West Main St. Hyannis
UID:e.3261.3856
SEQUENCE:3
DTSTAMP:20260421T232635Z
URL:https://business.hyannis.com/events/details/left-center-right-game-night-at-barnstable-brewing-3856
END:VEVENT

END:VCALENDAR
