BEGIN:VCALENDAR
VERSION:2.0
PRODID:-//ChamberMaster//Event Calendar 2.0//EN
METHOD:PUBLISH
X-PUBLISHED-TTL:P3D
REFRESH-INTERVAL:P3D
CALSCALE:GREGORIAN
BEGIN:VEVENT
DTSTART:20181010T223000Z
DTEND:20181011T001500Z
X-MICROSOFT-CDO-ALLDAYEVENT:FALSE
SUMMARY:Line Dancing Classes
DESCRIPTION:Grab your boots or your sneakers & learn basic line dancing! You'll enjoy great music and have lots of laughs while exercising your body and mind. Learn the techniques and steps to follow along at any party or nightclub. Come by yourself\, bring friends or bring a partner. Open to all genders and skill levels. Beginners welcome. $20 includes the beverage of your choice at the after-class social.
X-ALT-DESC;FMTTYPE=text/html:Grab your boots or your sneakers &amp\; learn basic line dancing! You&rsquo\;ll enjoy great music and have lots of laughs while exercising your body and mind. Learn the techniques and steps to follow along at any party or nightclub. Come by yourself\, bring friends or bring a partner. Open to all genders and skill levels. Beginners welcome. $20 includes the beverage of your choice at the after-class social.
LOCATION:Cape Cod Beer 1336 Phinney's Lane Hyannis\, MA 02601
UID:e.3261.71
SEQUENCE:3
DTSTAMP:20260424T160850Z
URL:https://business.hyannis.com/events/details/line-dancing-classes-71
END:VEVENT

END:VCALENDAR
