BEGIN:VCALENDAR
VERSION:2.0
PRODID:-//ChamberMaster//Event Calendar 2.0//EN
METHOD:PUBLISH
X-PUBLISHED-TTL:P3D
REFRESH-INTERVAL:P3D
CALSCALE:GREGORIAN
BEGIN:VEVENT
DTSTART:20181212T233000Z
DTEND:20181213T011500Z
X-MICROSOFT-CDO-ALLDAYEVENT:FALSE
SUMMARY:Line Dancing Lessons
DESCRIPTION:DUST OFF YOUR DANCIN' SHOES   IT'S TIME TO LINE DANCE! Grab your boots or your sneakers & learn basic line dancing! You'll enjoy great music and have lots of laughs while exercising your body and mind. Learn the techniques and steps to follow along at any party or nightclub. Come by yourself\, bring friends or bring a partner. Open to all genders and skill levels. Beginners welcome. Enjoy a pint (included) at the after-class social. Instruction provided by our friends at "Ballroom Bliss." Get your tickets!
X-ALT-DESC;FMTTYPE=text/html:DUST OFF YOUR DANCIN&rsquo\; SHOES &ndash\; IT&rsquo\;S TIME TO LINE DANCE! Grab your boots or your sneakers &amp\; learn basic line dancing! You&rsquo\;ll enjoy great music and have lots of laughs while exercising your body and mind. Learn the techniques and steps to follow along at any party or nightclub. Come by yourself\, bring friends or bring a partner. Open to all genders and skill levels. Beginners welcome. Enjoy a pint (included) at the after-class social. Instruction provided by our friends at &ldquo\;Ballroom Bliss.&rdquo\; Get your tickets!
LOCATION:Cape Cod Beer 1336 Phinney's Lane Hyannis\, MA 02601
UID:e.3261.100
SEQUENCE:3
DTSTAMP:20260424T143518Z
URL:https://business.hyannis.com/events/details/line-dancing-lessons-12-12-2018-100
END:VEVENT

END:VCALENDAR
