BEGIN:VCALENDAR
VERSION:2.0
PRODID:-//ChamberMaster//Event Calendar 2.0//EN
METHOD:PUBLISH
X-PUBLISHED-TTL:P3D
REFRESH-INTERVAL:P3D
CALSCALE:GREGORIAN
BEGIN:VEVENT
DTSTART:20181207T220000Z
DTEND:20181208T010000Z
X-MICROSOFT-CDO-ALLDAYEVENT:FALSE
SUMMARY:Live Music Series: North Country
DESCRIPTION:Cape Cod Beer hosts a live music series for the locals in the off-season. In December\, they welcome North Country. They perform the best of Country & Western music. From classic to contemporary\, they're a boot-scootin' good time! Come for the party! FREE admission\, cash bar\, Foss Farms in the Pop Up Kitchen!
X-ALT-DESC;FMTTYPE=text/html:Cape Cod Beer hosts a live music series for the locals in the off-season. In December\, they welcome North Country. They perform the best of Country &amp\; Western music. From classic to contemporary\, they&rsquo\;re a boot-scootin&rsquo\; good time! Come for the party! FREE admission\, cash bar\, Foss Farms in the Pop Up Kitchen!
LOCATION:Cape Cod Beer 1336 Phinney's Lane Hyannis\, MA 02601
UID:e.3261.122
SEQUENCE:3
DTSTAMP:20260424T132551Z
URL:https://business.hyannis.com/events/details/live-music-series-north-country-122
END:VEVENT

END:VCALENDAR
