BEGIN:VCALENDAR
VERSION:2.0
PRODID:-//ChamberMaster//Event Calendar 2.0//EN
METHOD:PUBLISH
X-PUBLISHED-TTL:P3D
REFRESH-INTERVAL:P3D
CALSCALE:GREGORIAN
BEGIN:VEVENT
DTSTART:20181222T220000Z
DTEND:20181223T010000Z
X-MICROSOFT-CDO-ALLDAYEVENT:FALSE
SUMMARY:Locals Christmas Party
DESCRIPTION:Get funky! This one is for the locals! Celebrate that all your holiday prep is done! Or brace yourself for all the prep work you still have left to do. Either way\, stop by\, take a breather from the holiday madness and have some fun at this casual Christmas party at Cape Cod Beer. There will be food in the Cape Cod Beer Pop-Up Kitchen. Funktapuss will be bringing laid back jams from 5-8pm. There's no cover charge\, just come hang out. And if you're not a local and you want to come  don't worry\, we won't be asking for proof of residency ?? Need a last minute gift? Grab some beer to go. Make the holidays fun again. We close for our winter break after the party at 8pm and we don't reopen again until January 2nd!
X-ALT-DESC;FMTTYPE=text/html:Get funky! This one is for the locals! Celebrate that all your holiday prep is done! Or brace yourself for all the prep work you still have left to do. Either way\, stop by\, take a breather from the holiday madness and have some fun at this casual Christmas party at Cape Cod Beer. There will be food in the Cape Cod Beer Pop-Up Kitchen. Funktapuss will be bringing laid back jams from 5-8pm. There&rsquo\;s no cover charge\, just come hang out. And if you&rsquo\;re not a local and you want to come&hellip\; don&rsquo\;t worry\, we won&rsquo\;t be asking for proof of residency ?? Need a last minute gift? Grab some beer to go. Make the holidays fun again. We close for our winter break after the party at 8pm and we don&rsquo\;t reopen again until January 2nd!
LOCATION:Cape Cod Beer 1336 Phinney's Lane Hyannis\, MA 02601
UID:e.3261.127
SEQUENCE:3
DTSTAMP:20260424T132112Z
URL:https://business.hyannis.com/events/details/locals-christmas-party-127
END:VEVENT

END:VCALENDAR
