BEGIN:VCALENDAR
VERSION:2.0
PRODID:-//ChamberMaster//Event Calendar 2.0//EN
METHOD:PUBLISH
X-PUBLISHED-TTL:P3D
REFRESH-INTERVAL:P3D
CALSCALE:GREGORIAN
BEGIN:VEVENT
DTSTART:20251001T040000Z
DTEND:20251001T040000Z
X-MICROSOFT-CDO-ALLDAYEVENT:FALSE
SUMMARY:Loire Legends ~ French Wine Seminar
DESCRIPTION:You're invited to an "Insiders"  Seminar & Tasting featuring the exceptional wines of the Loire Valley \n\nshowcasing the following producers\;\n\n~ Philippe Foreau\n\n~ Lucien Crochet\n\n~ Philippe Gilbert.\n\n \n\nWe will delve into the unique terroirs of Vouvray\, Sancerre\, and Menatou-Salon and explore a stunning lineup\;\n\n~ Foureau's Vouvray's\, Bubbly\, Sec\, and Demi-Sec\n\n~ Crochet's Sancerre Rouge "Cuv e Prestige"\n\n~ Gilvert's Menatou-Salon Rouge\n\nWe look forward to sharing these iconic wines with you!\n\nPresented by Ryan Connelly of Rosenthal Wine Merchants.\n\nCost $15*/person\n\nOpen to individuals 21+yrs old. Must present a valid\, legal ID\n\n*All registered attendees will receive a $15 store credit to be used the evening of the event.
X-ALT-DESC;FMTTYPE=text/html:<hr />\n<div>\n<p>You&rsquo\;re invited to an &ldquo\;Insiders&rdquo\;&nbsp\; Seminar &amp\; Tasting featuring the exceptional wines of the Loire Valley&nbsp\;</p>\n\n<p>showcasing the following producers\;</p>\n\n<p>~ Philippe Foreau</p>\n\n<p>~ Lucien Crochet</p>\n\n<p>~ Philippe Gilbert.</p>\n\n<p>&nbsp\;</p>\n\n<p>We will delve into the unique terroirs of Vouvray\, Sancerre\, and Menatou-Salon and explore a stunning lineup\;</p>\n\n<p>~ Foureau&rsquo\;s Vouvray&rsquo\;s\, Bubbly\, Sec\, and Demi-Sec</p>\n\n<p>~ Crochet&#39\;s Sancerre Rouge &ldquo\;Cuv&eacute\;e Prestige&rdquo\;</p>\n\n<p>~ Gilvert&#39\;s Menatou-Salon Rouge</p>\n\n<p>We look forward to sharing these iconic wines with you!</p>\n\n<p>Presented by Ryan Connelly of Rosenthal Wine Merchants.</p>\n\n<p>Cost $15*/person</p>\n\n<p>Open to individuals 21+yrs old. Must present a valid\, legal ID<br />\n*All registered attendees will receive a $15 store credit to be used the evening of the event.</p>\n</div>\n
LOCATION:Cape Cod Package Store Fine Wine & Spirits
UID:e.3261.3767
SEQUENCE:3
DTSTAMP:20260421T213859Z
URL:https://business.hyannis.com/events/details/loire-legends-french-wine-seminar-3767
END:VEVENT

END:VCALENDAR
