BEGIN:VCALENDAR
VERSION:2.0
PRODID:-//ChamberMaster//Event Calendar 2.0//EN
METHOD:PUBLISH
X-PUBLISHED-TTL:P3D
REFRESH-INTERVAL:P3D
CALSCALE:GREGORIAN
BEGIN:VEVENT
DTSTART:20250315T140000Z
DTEND:20250315T190000Z
X-MICROSOFT-CDO-ALLDAYEVENT:FALSE
SUMMARY:Loosen Up! A Watercolor Workshop with Lisa Goren
DESCRIPTION:Sat\, March 15\, 10am-3pm. Why are people afraid of watercolor? This is a workshop to help you relax and learn to love the medium. Using a wet-on-wet approach\, we'll demolish the old tropes   yes\, you CAN change things\, no\, "mud" does NOT have to be the usual result of color mixing\, controlling the "uncontrollable" IS possible\, and MORE! We focus on working with water\, learning how to mix colors\, understanding paper\, and using the strengths (and weaknesses) of the medium to your advantage. Within these hours (including a   hour for lunch)\, we'll work lots of wet paint along with using many different surfaces and methods. This workshop focuses on new techniques\, learning to control the uncontrollable\, and having a blast with this amazing medium. It is a great workshop for beginners as well as those looking to shake up their practice. Dress to make art and bring a brown-bag lunch for the break. Price: Member $113\, Not-Yet-Member $125. To register visit www.cultural-center.org or call 508-394-7100. Cultural Center of Cape Cod\, 307 Old Main St.\, South Yarmouth.
X-ALT-DESC;FMTTYPE=text/html:Sat\, March 15\, 10am-3pm. Why are people afraid of watercolor? This is a workshop to help you relax and learn to love the medium. Using a wet-on-wet approach\, we&rsquo\;ll demolish the old tropes &ndash\; yes\, you CAN change things\, no\, &ldquo\;mud&rdquo\; does NOT have to be the usual result of color mixing\, controlling the &ldquo\;uncontrollable&rdquo\; IS possible\, and MORE! We focus on working with water\, learning how to mix colors\, understanding paper\, and using the strengths (and weaknesses) of the medium to your advantage. Within these hours (including a &frac12\; hour for lunch)\, we&rsquo\;ll work lots of wet paint along with using many different surfaces and methods. This workshop focuses on new techniques\, learning to control the uncontrollable\, and having a blast with this amazing medium. It is a great workshop for beginners as well as those looking to shake up their practice. Dress to make art and bring a brown-bag lunch for the break. Price: Member $113\, Not-Yet-Member $125. To register visit www.cultural-center.org or call 508-394-7100. Cultural Center of Cape Cod\, 307 Old Main St.\, South Yarmouth.
LOCATION:Cultural Center of Cape Cod\, 307 Old Main St.\, South Yarmouth
UID:e.3261.3181
SEQUENCE:3
DTSTAMP:20260421T113127Z
URL:https://business.hyannis.com/events/details/loosen-up-a-watercolor-workshop-with-lisa-goren-3181
END:VEVENT

END:VCALENDAR
