BEGIN:VCALENDAR
VERSION:2.0
PRODID:-//ChamberMaster//Event Calendar 2.0//EN
METHOD:PUBLISH
X-PUBLISHED-TTL:P3D
REFRESH-INTERVAL:P3D
CALSCALE:GREGORIAN
BEGIN:VEVENT
DTSTART;VALUE=DATE:20251008
DTEND;VALUE=DATE:20251009
TRANSP:TRANSPARENT
X-MICROSOFT-CDO-ALLDAYEVENT:TRUE
SUMMARY:Mad River Bourbon Whiskey Seminar
DESCRIPTION:Join us for an immersive experience exploring artisanal spirits produced by Mad River Distillers\, where tradition meets innovation and every pour tells a story!\n\n\n\nWhat to Expect\n\n	'Spirited' conversation and a guided tasting of Mad River Distiller's Bourbon Whiskies & Rum\, led by Mike Connell\, Brand Ambassador.\n	Explore distilling techniques and flavor profiles\n	Shake things up with their premium ready-to-drink craft cocktails.\n\n\n\nWhether you're a seasoned sipper or curious newcomer to the world of Spirits\, this is a chance to deepen your appreciation of what's in your glass!\n\n\n\nFee - $15/person*\n\nLimited Seating - Preregistration Required\n\n\n\nMust be 21 years or older and present a legal ID\n\n\n\n* All registered guests will receive a $15 in-store credit that can be applied to a purchase that evening.
X-ALT-DESC;FMTTYPE=text/html:<span style="color:rgb(29\, 16\, 44)\; font-family:museo sans w01\,helvetica neue\,helvetica\,helvetica\,arial\,sans-serif\; font-size:14px">Join us for an immersive experience exploring artisanal spirits produced by Mad River Distillers\, where tradition meets innovation and every pour tells a story!</span><br />\n<br />\n<u><em><span style="color:rgb(29\, 16\, 44)\; font-family:museo sans w01\,helvetica neue\,helvetica\,helvetica\,arial\,sans-serif\; font-size:14px">What to Expect</span></em></u>\n<ul>\n	<li><span style="color:rgb(29\, 16\, 44)\; font-family:museo sans w01\,helvetica neue\,helvetica\,helvetica\,arial\,sans-serif\; font-size:14px">&#39\;Spirited&#39\; conversation and a guided tasting of Mad River Distiller&#39\;s Bourbon Whiskies &amp\; Rum\, led by Mike Connell\, Brand Ambassador.</span></li>\n	<li><span style="color:rgb(29\, 16\, 44)\; font-family:museo sans w01\,helvetica neue\,helvetica\,helvetica\,arial\,sans-serif\; font-size:14px">Explore distilling techniques and flavor profiles</span></li>\n	<li><span style="color:rgb(29\, 16\, 44)\; font-family:museo sans w01\,helvetica neue\,helvetica\,helvetica\,arial\,sans-serif\; font-size:14px">Shake things up with their premium ready-to-drink craft cocktails.</span></li>\n</ul>\n<br />\n<span style="color:rgb(29\, 16\, 44)\; font-family:museo sans w01\,helvetica neue\,helvetica\,helvetica\,arial\,sans-serif\; font-size:14px">Whether you&rsquo\;re a seasoned sipper or curious newcomer to the world of Spirits\, this is a chance to deepen your appreciation of what&rsquo\;s in your glass!</span><br />\n<br />\n<span style="color:rgb(29\, 16\, 44)\; font-family:museo sans w01\,helvetica neue\,helvetica\,helvetica\,arial\,sans-serif\; font-size:14px">Fee - $15/person*</span><br />\n<span style="color:rgb(29\, 16\, 44)\; font-family:museo sans w01\,helvetica neue\,helvetica\,helvetica\,arial\,sans-serif\; font-size:14px">Limited Seating - Preregistration Required</span><br />\n<br />\n<span style="color:rgb(29\, 16\, 44)\; font-family:museo sans w01\,helvetica neue\,helvetica\,helvetica\,arial\,sans-serif\; font-size:14px">Must be 21 years or older and present a legal ID</span><br />\n<br />\n<span style="color:rgb(29\, 16\, 44)\; font-family:museo sans w01\,helvetica neue\,helvetica\,helvetica\,arial\,sans-serif\; font-size:14px">* All registered guests will receive a $15 in-store credit that can be applied to a purchase that evening.</span>
LOCATION:Cape Cod Package Store Fine Wine & Spirits 1495 Falmouth Road Centerville\, MA 02632
UID:e.3261.3764
SEQUENCE:3
DTSTAMP:20260421T213725Z
URL:https://business.hyannis.com/events/details/mad-river-bourbon-whiskey-seminar-3764
END:VEVENT

END:VCALENDAR
