BEGIN:VCALENDAR
VERSION:2.0
PRODID:-//ChamberMaster//Event Calendar 2.0//EN
METHOD:PUBLISH
X-PUBLISHED-TTL:P3D
REFRESH-INTERVAL:P3D
CALSCALE:GREGORIAN
BEGIN:VEVENT
DTSTART:20181103T180000Z
DTEND:20181103T210000Z
X-MICROSOFT-CDO-ALLDAYEVENT:FALSE
SUMMARY:Mass Brew Fest
DESCRIPTION:Enjoy FREE Craft Beer tastings\, featuring brews from Massachusett's breweries/\\.\n\nEnter to WIN raffle prizes! Enjoy special discounts day of event! \n\nThis event is free and open to the public ages 21+
X-ALT-DESC;FMTTYPE=text/html:Enjoy FREE Craft Beer tastings\, featuring brews from Massachusett&#39\;s breweries/\\.<br />\nEnter to WIN raffle prizes! Enjoy special discounts day of event!&nbsp\;<br />\nThis event is free and open to the public ages 21+&nbsp\;<br />\n&nbsp\;
LOCATION:Cape Cod Package Store Fine Wine & Spirits
UID:e.3261.106
SEQUENCE:3
DTSTAMP:20260424T143330Z
URL:https://business.hyannis.com/events/details/mass-brew-fest-106
END:VEVENT

END:VCALENDAR
