BEGIN:VCALENDAR
VERSION:2.0
PRODID:-//ChamberMaster//Event Calendar 2.0//EN
METHOD:PUBLISH
X-PUBLISHED-TTL:P3D
REFRESH-INTERVAL:P3D
CALSCALE:GREGORIAN
BEGIN:VEVENT
DTSTART:20251005T133000Z
DTEND:20251005T173000Z
X-MICROSOFT-CDO-ALLDAYEVENT:FALSE
SUMMARY:Mastering Glazing Workshop with Rebecca Matarazzi
DESCRIPTION:Sun\, Oct 5\, 930-1230pm. For the hand building or wheel throwing student who wants to master their glazing techniques and become more confident in the glaze lab\, this hands-on workshop starts with the proper prep work before the application of glaze by dipping\, pouring\, and brushing. We will start with the importance of getting the correct thickness of glaze materials used for each application method. We will go over how to layer combinations of different glazes together as well as the use of wax to isolate areas of the piece in the glazing process. Students are encouraged to bring up to 4 clean bisqued pieces to work on during workshop. Member $100\, Not-Yet-Member $110
X-ALT-DESC;FMTTYPE=text/html:Sun\, Oct 5\, 930-1230pm. For the hand building or wheel throwing student who wants to master their glazing techniques and become more confident in the glaze lab\, this hands-on workshop starts with the proper prep work before the application of glaze by dipping\, pouring\, and brushing. We will start with the importance of getting the correct thickness of glaze materials used for each application method. We will go over how to layer combinations of different glazes together as well as the use of wax to isolate areas of the piece in the glazing process. Students are encouraged to bring up to 4 clean bisqued pieces to work on during workshop. Member $100\, Not-Yet-Member $110
LOCATION:307 Old Main St\, South Yarmouth
UID:e.3261.3772
SEQUENCE:3
DTSTAMP:20260421T232434Z
URL:https://business.hyannis.com/events/details/mastering-glazing-workshop-with-rebecca-matarazzi-10-05-2025-3772
END:VEVENT

END:VCALENDAR
