BEGIN:VCALENDAR
VERSION:2.0
PRODID:-//ChamberMaster//Event Calendar 2.0//EN
METHOD:PUBLISH
X-PUBLISHED-TTL:P3D
REFRESH-INTERVAL:P3D
CALSCALE:GREGORIAN
BEGIN:VEVENT
DTSTART:20250628T180000Z
DTEND:20250628T210000Z
X-MICROSOFT-CDO-ALLDAYEVENT:FALSE
SUMMARY:Mastering Glazing Workshop with Rebecca Matarazzi
DESCRIPTION:Sat\, Jun 28\, 2-5pm. For the hand building or wheel throwing student who wants to master their glazing techniques and become more confident in the glaze lab\, this hands-on workshop starts with the proper prep work before the application of glaze by dipping\, pouring\, and brushing. We will start with the importance of getting the correct thickness of glaze materials used for each application method. We will go over how to layer combinations of different glazes together as well as the use of wax to isolate areas of the piece in the glazing process. Students are encouraged to bring up to 4 clean bisqued pieces to work on during the workshop. $100 Members\, $110 Not-Yet-Members. To register visit www.cultural-center.org or call 508-394-7100. Cultural Center of Cape Cod\, 307 Old Main St.\, South Yarmouth.
X-ALT-DESC;FMTTYPE=text/html:Sat\, Jun 28\, 2-5pm. For the hand building or wheel throwing student who wants to master their glazing techniques and become more confident in the glaze lab\, this hands-on workshop starts with the proper prep work before the application of glaze by dipping\, pouring\, and brushing. We will start with the importance of getting the correct thickness of glaze materials used for each application method. We will go over how to layer combinations of different glazes together as well as the use of wax to isolate areas of the piece in the glazing process. Students are encouraged to bring up to 4 clean bisqued pieces to work on during the workshop. $100 Members\, $110 Not-Yet-Members. To register visit www.cultural-center.org or call 508-394-7100. Cultural Center of Cape Cod\, 307 Old Main St.\, South Yarmouth.
LOCATION:Cultural Center of Cape Cod\, 307 Old Main St.\, South Yarmouth
UID:e.3261.3410
SEQUENCE:3
DTSTAMP:20260421T150432Z
URL:https://business.hyannis.com/events/details/mastering-glazing-workshop-with-rebecca-matarazzi-3410
END:VEVENT

END:VCALENDAR
