BEGIN:VCALENDAR
VERSION:2.0
PRODID:-//ChamberMaster//Event Calendar 2.0//EN
METHOD:PUBLISH
X-PUBLISHED-TTL:P3D
REFRESH-INTERVAL:P3D
CALSCALE:GREGORIAN
BEGIN:VEVENT
DTSTART:20181014T123000Z
DTEND:20181014T200000Z
X-MICROSOFT-CDO-ALLDAYEVENT:FALSE
SUMMARY:Mastering Your Mark Art Conference - Cape Cod Art Center
DESCRIPTION:Cape Cod Art Center (CCAC) is proud to host our 3rd annual "Mastering Your Mark 2018" Art Conference. This art conference is designed to engage all media and is open to artists of all levels. Join us Sunday\, October 14th\, 2018 at the Cape Codder Resort & Spa in Hyannis\, Massachusetts. "Mastering Your Mark 2018" Keynote speaker will be Wendy Hale\, President of New England Watercolor Society. Over 20 of the region's best artists will be conducting seminars\, demonstrations\, panel discussions and hands-on activities covering technique\, the creative process\, the business of art and more. Registration for "Mastering Your Mark 2018" is $120 and can be completed online at MasteringYourMark.org or by calling 508-362-2909 to request a print application.
X-ALT-DESC;FMTTYPE=text/html:<span style="font-family:calibri\,sans-serif"><span style="font-size:11.0pt">Cape Cod Art Center (CCAC) is proud to host our 3<sup>rd</sup> annual &ldquo\;Mastering Your Mark 2018&rdquo\; Art Conference. This art conference is designed to engage all media and is open to artists of all levels. Join us Sunday\, October 14<sup>th</sup>\, 2018 at the Cape Codder Resort &amp\; Spa in Hyannis\, Massachusetts. &ldquo\;Mastering Your Mark 2018&rdquo\; Keynote speaker will be Wendy Hale\, President of New England Watercolor Society. Over 20 of the region&rsquo\;s best artists will be conducting seminars\, demonstrations\, panel discussions and hands-on activities covering technique\, the creative process\, the business of art and more. Registration for &ldquo\;Mastering Your Mark 2018&rdquo\; is $120 and can be completed online at MasteringYourMark.org or by calling 508-362-2909 to request a print application.</span></span><br />\n&nbsp\;
LOCATION:Cape Codder Resort & Spa 1225 Iyannough Road\, Hyannis MA 02601
UID:e.3261.13
SEQUENCE:3
DTSTAMP:20260424T160546Z
URL:https://business.hyannis.com/events/details/mastering-your-mark-art-conference-cape-cod-art-center-13
END:VEVENT

END:VCALENDAR
