BEGIN:VCALENDAR
VERSION:2.0
PRODID:-//ChamberMaster//Event Calendar 2.0//EN
METHOD:PUBLISH
X-PUBLISHED-TTL:P3D
REFRESH-INTERVAL:P3D
CALSCALE:GREGORIAN
BEGIN:VEVENT
DTSTART:20251004T140000Z
DTEND:20251004T150000Z
X-MICROSOFT-CDO-ALLDAYEVENT:FALSE
SUMMARY:Mid Autumn Moon Festival Children’s Story Time with Miss Hannah
DESCRIPTION:The Mid Autumn Moon Festival is one of the most important holidays and celebrations in Chinese culture. The history of the festival dates back over 3\,000 years! Let's learn all about it with this educational children's story time and program with Miss Hannah! This program will take place in the Lillian Dixie Morton Children's Room on Saturday October 4th at 10am. For more information\, please contact Amy Wolfe at awolfe@clamsnet.org or by calling the OVL directly at (508)428-5757
X-ALT-DESC;FMTTYPE=text/html:The Mid Autumn Moon Festival is one of the most important holidays and celebrations in Chinese culture. The history of the festival dates back over 3\,000 years! Let&rsquo\;s learn all about it with this educational children&rsquo\;s story time and program with Miss Hannah! This program will take place in the Lillian Dixie Morton Children&rsquo\;s Room on Saturday October 4th at 10am. For more information\, please contact Amy Wolfe at awolfe@clamsnet.org or by calling the OVL directly at (508)428-5757
LOCATION:Lillian Dixie Morton Children's Room Osterville Village Library 43 Wianno Ave Osterville MA
UID:e.3261.3787
SEQUENCE:3
DTSTAMP:20260421T233344Z
URL:https://business.hyannis.com/events/details/mid-autumn-moon-festival-children-s-story-time-with-miss-hannah-3787
END:VEVENT

END:VCALENDAR
