BEGIN:VCALENDAR
VERSION:2.0
PRODID:-//ChamberMaster//Event Calendar 2.0//EN
METHOD:PUBLISH
X-PUBLISHED-TTL:P3D
REFRESH-INTERVAL:P3D
CALSCALE:GREGORIAN
BEGIN:VEVENT
DTSTART:20250620T180000Z
DTEND:20250620T200000Z
X-MICROSOFT-CDO-ALLDAYEVENT:FALSE
SUMMARY:Million Right Ways to Draw
DESCRIPTION:Fri\, Jun 20\, 2-4pm.Unleash your inner artist in "A Million Right Ways to Draw\," a liberating one-day workshop with artist Chuck Stigliano designed to break down perceived drawing limitations and celebrate diverse artistic expression. Through engaging exercises and playful drawing games\, you'll discover that capturing photographic realism is just one path among countless others. This class empowers individuals\, regardless of prior experience\, to explore a multitude of approaches and find their own unique and valid ways of drawing\, with each assignment offering a standalone opportunity for creative exploration and discovery. No experience is required\, and all materials are provided. This class will be held at our Hyannis campus on the first floor in the Sketchpad! $40 Members\, $44 Not-Yet-Members. Cultural Center of Cape Cod's Hyannis Campus is located at 250 South St.\, Hyannis.
X-ALT-DESC;FMTTYPE=text/html:Fri\, Jun 20\, 2-4pm.Unleash your inner artist in &quot\;A Million Right Ways to Draw\,&quot\; a liberating one-day workshop with artist Chuck Stigliano designed to break down perceived drawing limitations and celebrate diverse artistic expression. Through engaging exercises and playful drawing games\, you&#39\;ll discover that capturing photographic realism is just one path among countless others. This class empowers individuals\, regardless of prior experience\, to explore a multitude of approaches and find their own unique and valid ways of drawing\, with each assignment offering a standalone opportunity for creative exploration and discovery. No experience is required\, and all materials are provided. This class will be held at our Hyannis campus on the first floor in the Sketchpad! $40 Members\, $44 Not-Yet-Members. Cultural Center of Cape Cod&rsquo\;s Hyannis Campus is located at 250 South St.\, Hyannis.
LOCATION:Cultural Center of Cape Cod- Hyannis Campus\, 250 South St.\, Hyannis
UID:e.3261.3404
SEQUENCE:3
DTSTAMP:20260421T150436Z
URL:https://business.hyannis.com/events/details/million-right-ways-to-draw-3404
END:VEVENT

END:VCALENDAR
