BEGIN:VCALENDAR
VERSION:2.0
PRODID:-//ChamberMaster//Event Calendar 2.0//EN
METHOD:PUBLISH
X-PUBLISHED-TTL:P3D
REFRESH-INTERVAL:P3D
CALSCALE:GREGORIAN
BEGIN:VEVENT
DTSTART:20181129T230000Z
DTEND:20181130T010000Z
X-MICROSOFT-CDO-ALLDAYEVENT:FALSE
SUMMARY:MSPCA-Cape Cod Wine Tasting
DESCRIPTION:The MSPCA-Cape Cod is thrilled to host our fourth annual Holiday Wine Tasting\, with Cotuit Liquors\, on Thursday\, November 29th at the Cape Codder in Hyannis. Thanks to Cotuit Liquors\, we will feature delicious wines to taste and purchase. This is a great chance to stock up on wines for the holidays while helping animals! In addition\, there will be passed hors d'oeuvres\, savory cheeses\, a silent auction and games! Our goal is to raise $30\,000 through ticket sales\, cash sponsorships\, and a silent auction. Every dollar raised stays right here on Cape Cod to support all areas of our mission\, including animal adoption\, veterinary care for our shelter animals\, advocacy\, and law enforcement. At the MSPCA-Cape Cod\, we accept animals of all breeds\, ages\, and health and behavior issues. We make every effort possible to provide them the medical care\, behavior training\, and enrichment that they need to feel safe and happy as they await their new homes and families. In addition to sheltering animals\, the MSPCA-Cape Cod is also dedicated to providing Humane Education to the next generation of animal advocates. Tickets for the Wine Tasting are $40 per person and may be purchased on our website at www.mspca.org/capewine.
X-ALT-DESC;FMTTYPE=text/html:The MSPCA-Cape Cod is thrilled to host our fourth annual Holiday Wine Tasting\, with Cotuit Liquors\, on Thursday\, November 29th at the Cape Codder in Hyannis. Thanks to Cotuit Liquors\, we will feature delicious wines to taste and purchase. This is a great chance to stock up on wines for the holidays while helping animals! In addition\, there will be passed hors d&rsquo\;oeuvres\, savory cheeses\, a silent auction and games! Our goal is to raise $30\,000 through ticket sales\, cash sponsorships\, and a silent auction. Every dollar raised stays right here on Cape Cod to support all areas of our mission\, including animal adoption\, veterinary care for our shelter animals\, advocacy\, and law enforcement. At the MSPCA-Cape Cod\, we accept animals of all breeds\, ages\, and health and behavior issues. We make every effort possible to provide them the medical care\, behavior training\, and enrichment that they need to feel safe and happy as they await their new homes and families. In addition to sheltering animals\, the MSPCA-Cape Cod is also dedicated to providing Humane Education to the next generation of animal advocates. Tickets for the Wine Tasting are $40 per person and may be purchased on our website at www.mspca.org/capewine.
LOCATION:Cape Codder Resort\, JFK Ballroom 1225 Iyannough Road Hyannis\, MA 02601
UID:e.3261.114
SEQUENCE:3
DTSTAMP:20260424T143344Z
URL:https://business.hyannis.com/events/details/mspca-cape-cod-wine-tasting-114
END:VEVENT

END:VCALENDAR
