BEGIN:VCALENDAR
VERSION:2.0
PRODID:-//ChamberMaster//Event Calendar 2.0//EN
METHOD:PUBLISH
X-PUBLISHED-TTL:P3D
REFRESH-INTERVAL:P3D
CALSCALE:GREGORIAN
BEGIN:VEVENT
DTSTART:20181206T190000Z
DTEND:20181206T210000Z
X-MICROSOFT-CDO-ALLDAYEVENT:FALSE
SUMMARY:MSPCA Coffee Cat Chat - FREE
DESCRIPTION:Meet our special needs cats & have coffee with our Shelter Veterinarian\, Dr. Magnotta. Dr. Magnotta will share important information about adopting a critter with medical needs like diabetes\, hyperthyroidism\, allergies and arthritis. You will learn about the costs\, prognosis\, and care that goes into adopting these special animals. This is an informal discussion in a relaxed setting with complimentary coffee\, where you'll have time to ask questions!
X-ALT-DESC;FMTTYPE=text/html:Meet our special needs cats &amp\; have coffee with our Shelter Veterinarian\, Dr. Magnotta. Dr. Magnotta will share important information about adopting a critter with medical needs like diabetes\, hyperthyroidism\, allergies and arthritis. You will learn about the costs\, prognosis\, and care that goes into adopting these special animals. This is an informal discussion in a relaxed setting with complimentary coffee\, where you&rsquo\;ll have time to ask questions!
LOCATION:1577 Falmouth Rd Centerville\, MA
UID:e.3261.144
SEQUENCE:3
DTSTAMP:20260424T143518Z
URL:https://business.hyannis.com/events/details/mspca-coffee-cat-chat-free-144
END:VEVENT

END:VCALENDAR
