BEGIN:VCALENDAR
VERSION:2.0
PRODID:-//ChamberMaster//Event Calendar 2.0//EN
METHOD:PUBLISH
X-PUBLISHED-TTL:P3D
REFRESH-INTERVAL:P3D
CALSCALE:GREGORIAN
BEGIN:VEVENT
DTSTART:20190324T150000Z
DTEND:20190324T180000Z
X-MICROSOFT-CDO-ALLDAYEVENT:FALSE
SUMMARY:MSPCA Easter Bunny Photos
DESCRIPTION:For only $10\, you can have your picture taken with a real Easter bunny! Join us on Sunday\, March 24th from 11am to 2pm at Agway of Cape Cod in South Dennis\, MA. Photography by author and professional photographer Kim Roderiques.
X-ALT-DESC;FMTTYPE=text/html:For only $10\, you can have your picture taken with a real Easter bunny! Join us on Sunday\, March 24th from 11am to 2pm at Agway of Cape Cod in South Dennis\, MA. Photography by author and professional photographer Kim Roderiques.
LOCATION:Agway of Cape Cod - Dennis 686 Route 28 Dennis\, MA
UID:e.3261.216
SEQUENCE:3
DTSTAMP:20260424T101754Z
URL:https://business.hyannis.com/events/details/mspca-easter-bunny-photos-216
END:VEVENT

END:VCALENDAR
