BEGIN:VCALENDAR
VERSION:2.0
PRODID:-//ChamberMaster//Event Calendar 2.0//EN
METHOD:PUBLISH
X-PUBLISHED-TTL:P3D
REFRESH-INTERVAL:P3D
CALSCALE:GREGORIAN
BEGIN:VEVENT
DTSTART:20181209T180000Z
DTEND:20181209T210000Z
X-MICROSOFT-CDO-ALLDAYEVENT:FALSE
SUMMARY:MSPCA Pup Up Thrift Store
DESCRIPTION:NEW AND GENTLY USED ITEMS FOR YOU AND YOUR FURRY FRIEND TOO! Clothes\, jewelry\, books\, toys\, dishes\, blankets\, coats and much more! (All Items: Cash Only $1- $20) Proceeds to benefit the animals of the MSPCA Cape Cod.
X-ALT-DESC;FMTTYPE=text/html:NEW AND GENTLY USED ITEMS FOR YOU AND YOUR FURRY FRIEND TOO! Clothes\, jewelry\, books\, toys\, dishes\, blankets\, coats and much more! (All Items: Cash Only $1- $20) Proceeds to benefit the animals of the MSPCA Cape Cod.
LOCATION:1577 Falmouth Rd. Centerville\, MA 02632
UID:e.3261.145
SEQUENCE:3
DTSTAMP:20260424T132046Z
URL:https://business.hyannis.com/events/details/mspca-pup-up-thrift-store-145
END:VEVENT

END:VCALENDAR
