BEGIN:VCALENDAR
VERSION:2.0
PRODID:-//ChamberMaster//Event Calendar 2.0//EN
METHOD:PUBLISH
X-PUBLISHED-TTL:P3D
REFRESH-INTERVAL:P3D
CALSCALE:GREGORIAN
BEGIN:VEVENT
DTSTART:20251009T210000Z
DTEND:20251010T000000Z
X-MICROSOFT-CDO-ALLDAYEVENT:FALSE
SUMMARY:Nantucket Lightship Basket Cuff Workshop with Helaine Buckley
DESCRIPTION:Thu\, Oct 9\, 5-8pm. Member $160\, Not-Yet-Member $176 LENGTH: 3 hours LEVEL: all levels WHAT TO EXPECT: Make your own Nantucket Lightship Basket cuff bracelet with artist and maker Helaine Buckley! Working with natural materials\, you'll design your own gorgeous piece of Cape Cod signature jewelry. Students will hand-weave a bracelet in traditional Nantucket Lightship style with reed and cane and complete it with a pair of handmade hardwood caps. The price includes all materials and basic hardwood caps. EXTRAS: Fancier caps available in class for a small upcharge. DON'T FORGET: This class is held in the Makerspace in the lower level of the Education Wing. SAVE: Save $16 on this class by purchasing a membership for only $65 and get discounts on classes and events year-round at the Center.
X-ALT-DESC;FMTTYPE=text/html:Thu\, Oct 9\, 5-8pm. Member $160\, Not-Yet-Member $176 LENGTH: 3 hours LEVEL: all levels WHAT TO EXPECT: Make your own Nantucket Lightship Basket cuff bracelet with artist and maker Helaine Buckley! Working with natural materials\, you&#39\;ll design your own gorgeous piece of Cape Cod signature jewelry. Students will hand-weave a bracelet in traditional Nantucket Lightship style with reed and cane and complete it with a pair of handmade hardwood caps. The price includes all materials and basic hardwood caps. EXTRAS: Fancier caps available in class for a small upcharge. DON&#39\;T FORGET: This class is held in the Makerspace in the lower level of the Education Wing. SAVE: Save $16 on this class by purchasing a membership for only $65 and get discounts on classes and events year-round at the Center.
LOCATION:Cultural Center\, 307 Old Main St\, South Yarmouth
UID:e.3261.3774
SEQUENCE:3
DTSTAMP:20260421T232500Z
URL:https://business.hyannis.com/events/details/nantucket-lightship-basket-cuff-workshop-with-helaine-buckley-10-09-2025-3774
END:VEVENT

END:VCALENDAR
