BEGIN:VCALENDAR
VERSION:2.0
PRODID:-//ChamberMaster//Event Calendar 2.0//EN
METHOD:PUBLISH
X-PUBLISHED-TTL:P3D
REFRESH-INTERVAL:P3D
CALSCALE:GREGORIAN
BEGIN:VEVENT
DTSTART:20181201T150000Z
DTEND:20181202T220000Z
X-MICROSOFT-CDO-ALLDAYEVENT:FALSE
SUMMARY:New England Holiday Craft Spectacular
DESCRIPTION:The 19th Annual New England Holiday Craft Spectacular will be held indoor at the Event Center at the Hanover Mall. Over 150 juried Artisans and Craftsmen will display and sell their American made works including Candles\, Pottery\, Scarves\, Tapestry\, Fine Jewelry\, Quilts\, Photography\, Custom Knives\, Shell Craft\, Natural Skin Care\, Clay\, Nautical Craft\, Soft Sculpture\, Holiday Wreaths\, Leather\, Oil Paintings\, Baskets\, Wearable Art\, Lamps\, Garden Art\, Metal Craft\, Decoupage\, Pet Gifts\, Mixed Media\, Blown Glass\, Lace\, Country Wood\, Folk Art\, Stained Glass\, Fleece\, Pillow Quilts\, Vintage Chic\, Fine Art\, Scrimshaw\, Ornaments\, Pine Cone Creations\, Aromatherapy\, Graphic Tees\, Musical Instruments\, Wind Chimes and much more. A "food sampling" extravaganza will be presented with such gourmet delights as Infused Oils\, Premium Chocolate\, Seasonings\, Hot Sauces\, Garlic Salt\, Jerkym Artisanal Fudge\, Wine Slushy Mixes\, Maple\, Honey and more.
X-ALT-DESC;FMTTYPE=text/html:The 19th Annual New England Holiday Craft Spectacular will be held indoor at the Event Center at the Hanover Mall. Over 150 juried Artisans and Craftsmen will display and sell their American made works including Candles\, Pottery\, Scarves\, Tapestry\, Fine Jewelry\, Quilts\, Photography\, Custom Knives\, Shell Craft\, Natural Skin Care\, Clay\, Nautical Craft\, Soft Sculpture\, Holiday Wreaths\, Leather\, Oil Paintings\, Baskets\, Wearable Art\, Lamps\, Garden Art\, Metal Craft\, Decoupage\, Pet Gifts\, Mixed Media\, Blown Glass\, Lace\, Country Wood\, Folk Art\, Stained Glass\, Fleece\, Pillow Quilts\, Vintage Chic\, Fine Art\, Scrimshaw\, Ornaments\, Pine Cone Creations\, Aromatherapy\, Graphic Tees\, Musical Instruments\, Wind Chimes and much more. A &ldquo\;food sampling&rdquo\; extravaganza will be presented with such gourmet delights as Infused Oils\, Premium Chocolate\, Seasonings\, Hot Sauces\, Garlic Salt\, Jerkym Artisanal Fudge\, Wine Slushy Mixes\, Maple\, Honey and more.
LOCATION:Event Center at the Hanover Mall 1775 Washington Street\, Hanover\, MA
UID:e.3261.134
SEQUENCE:3
DTSTAMP:20260424T132413Z
URL:https://business.hyannis.com/events/details/new-england-holiday-craft-spectacular-134
END:VEVENT

END:VCALENDAR
