BEGIN:VCALENDAR
VERSION:2.0
PRODID:-//ChamberMaster//Event Calendar 2.0//EN
METHOD:PUBLISH
X-PUBLISHED-TTL:P3D
REFRESH-INTERVAL:P3D
CALSCALE:GREGORIAN
BEGIN:VEVENT
DTSTART:20181026T220000Z
DTEND:20181027T010000Z
X-MICROSOFT-CDO-ALLDAYEVENT:FALSE
SUMMARY:Night of the Living Dead (Celebrities) Halloween Costume Party
DESCRIPTION:It's a Halloween Costume party at Cape Cod Beer! Come dressed as your favorite celebrity   dead or alive! Live music with the Zombie Polka Band! FREE admission\, cash bar.
X-ALT-DESC;FMTTYPE=text/html:It&rsquo\;s a Halloween Costume party at Cape Cod Beer! Come dressed as your favorite celebrity &ndash\; dead or alive! Live music with the Zombie Polka Band! FREE admission\, cash bar.
LOCATION:Cape Cod Beer 1336 Phinney's Lane Hyannis\, MA 02601
UID:e.3261.73
SEQUENCE:3
DTSTAMP:20260424T161658Z
URL:https://business.hyannis.com/events/details/night-of-the-living-dead-celebrities-halloween-costume-party-73
END:VEVENT

END:VCALENDAR
