BEGIN:VCALENDAR
VERSION:2.0
PRODID:-//ChamberMaster//Event Calendar 2.0//EN
METHOD:PUBLISH
X-PUBLISHED-TTL:P3D
REFRESH-INTERVAL:P3D
CALSCALE:GREGORIAN
BEGIN:VEVENT
DTSTART:20190119T173000Z
DTEND:20190119T190000Z
X-MICROSOFT-CDO-ALLDAYEVENT:FALSE
SUMMARY:Nurses Namaste Cape Cod: IntelyCare Wellness Series
DESCRIPTION:Despite all the care nurses provide to others\, nurses rarely have the time to take care of themselves. This New Year\, commit to taking some time to take care of your physical\, mental\, and emotional well-being. IntelyCare\, a nurse staffing app\, is excited to present the Nurses Namaste Cape Cod\, part of an event series committed to helping nurses embrace self-care. This 45 minute class\, led by owner and instructor of Evoke Yoga & Cycle Jess Riley-Norton\, is appropriate for all-levels. Jess will walk you through a challenging but approachable flow of yoga movements\, and will close with a relaxing stretch. After class\, attendees are encouraged to stick around and mingle and enjoy the light\, tasty bites provided by the talented Alexandra Johnson\, owner of the local intimate catering business\, GingerThyme. Learn more: Evoke Yoga & Cycle: @evoke_yoga_cc GingerThyme: @gingerthymez IntelyCare: www.intelycare.com
X-ALT-DESC;FMTTYPE=text/html:Despite all the care nurses provide to others\, nurses rarely have the time to take care of themselves. This New Year\, commit to taking some time to take care of your physical\, mental\, and emotional well-being. IntelyCare\, a nurse staffing app\, is excited to present the Nurses Namaste Cape Cod\, part of an event series committed to helping nurses embrace self-care. This 45 minute class\, led by owner and instructor of Evoke Yoga &amp\; Cycle Jess Riley-Norton\, is appropriate for all-levels. Jess will walk you through a challenging but approachable flow of yoga movements\, and will close with a relaxing stretch. After class\, attendees are encouraged to stick around and mingle and enjoy the light\, tasty bites provided by the talented Alexandra Johnson\, owner of the local intimate catering business\, GingerThyme. Learn more: Evoke Yoga &amp\; Cycle: @evoke_yoga_cc GingerThyme: @gingerthymez IntelyCare: www.intelycare.com
LOCATION:Evoke Yoga & Cycle\, 64 Enterprise Rd\, Hyannis\, MA 02601
UID:e.3261.163
SEQUENCE:3
DTSTAMP:20260424T113937Z
URL:https://business.hyannis.com/events/details/nurses-namaste-cape-cod-intelycare-wellness-series-163
END:VEVENT

END:VCALENDAR
