BEGIN:VCALENDAR
VERSION:2.0
PRODID:-//ChamberMaster//Event Calendar 2.0//EN
METHOD:PUBLISH
X-PUBLISHED-TTL:P3D
REFRESH-INTERVAL:P3D
CALSCALE:GREGORIAN
BEGIN:VEVENT
DTSTART:20181209T210000Z
DTEND:20181210T000000Z
X-MICROSOFT-CDO-ALLDAYEVENT:FALSE
SUMMARY:Oceanside Performing Arts Center
DESCRIPTION:Please join us for cocktails and hors d'oeuvres and learn about the exciting plans to build a new performing arts center on Cape Cod! RSVP by December 4th to sarafinnanton@gmail.com or 508-648-9291
X-ALT-DESC;FMTTYPE=text/html:Please join us for cocktails and hors d&#39\;oeuvres and learn about the exciting plans to build a new performing arts center on Cape Cod! RSVP by December 4th to sarafinnanton@gmail.com or 508-648-9291
LOCATION:The West End. 20 Scudder Ave\, Hyannis
UID:e.3261.143
SEQUENCE:3
DTSTAMP:20260424T132009Z
URL:https://business.hyannis.com/events/details/oceanside-performing-arts-center-143
END:VEVENT

END:VCALENDAR
