BEGIN:VCALENDAR
VERSION:2.0
PRODID:-//ChamberMaster//Event Calendar 2.0//EN
METHOD:PUBLISH
X-PUBLISHED-TTL:P3D
REFRESH-INTERVAL:P3D
CALSCALE:GREGORIAN
BEGIN:VEVENT
DTSTART:20181209T210000Z
DTEND:20181210T000000Z
X-MICROSOFT-CDO-ALLDAYEVENT:FALSE
SUMMARY:Oceanside Performing Arts Center Cocktail Party
DESCRIPTION:Please join us for cocktails & hors d'oeuvres and learn about the exciting plans to build a new performing arts center on Cape Cod! RSVP sarafinnanton@gmail.com or 508-648-9291
X-ALT-DESC;FMTTYPE=text/html:Please join us for cocktails &amp\; hors d&#39\;oeuvres and learn about the exciting plans to build a new performing arts center on Cape Cod! RSVP sarafinnanton@gmail.com or 508-648-9291
LOCATION:The West End- 20 Scudder Avenue\, Hyannis
UID:e.3261.136
SEQUENCE:3
DTSTAMP:20260424T144608Z
URL:https://business.hyannis.com/events/details/oceanside-performing-arts-center-cocktail-party-136
END:VEVENT

END:VCALENDAR
