BEGIN:VCALENDAR
VERSION:2.0
PRODID:-//ChamberMaster//Event Calendar 2.0//EN
METHOD:PUBLISH
X-PUBLISHED-TTL:P3D
REFRESH-INTERVAL:P3D
CALSCALE:GREGORIAN
BEGIN:VEVENT
DTSTART:20251004T140000Z
DTEND:20251004T160000Z
X-MICROSOFT-CDO-ALLDAYEVENT:FALSE
SUMMARY:Off-Leash Second Chance Adoption Event
DESCRIPTION:Join Off-Leash Second Chance & Barnstable Farm & Pet for a fun-filled adoption event! Meet & greet with multiple available dogs\, and learn about the work Off-Leash Second Chance does to help pointy-eared dogs in need
X-ALT-DESC;FMTTYPE=text/html:Join Off-Leash Second Chance &amp\; Barnstable Farm &amp\; Pet for a fun-filled adoption event! Meet &amp\; greet with multiple available dogs\, and learn about the work Off-Leash Second Chance does to help pointy-eared dogs in need
LOCATION:Barnstable Farm & Pet 48 Lombard Ave\, West Barnstable\, MA 02668
UID:e.3261.3780
SEQUENCE:3
DTSTAMP:20260421T213551Z
URL:https://business.hyannis.com/events/details/off-leash-second-chance-adoption-event-3780
END:VEVENT

END:VCALENDAR
