BEGIN:VCALENDAR
VERSION:2.0
PRODID:-//ChamberMaster//Event Calendar 2.0//EN
METHOD:PUBLISH
X-PUBLISHED-TTL:P3D
REFRESH-INTERVAL:P3D
CALSCALE:GREGORIAN
BEGIN:VEVENT
DTSTART:20181027T210000Z
DTEND:20181028T000000Z
X-MICROSOFT-CDO-ALLDAYEVENT:FALSE
SUMMARY:Oktoberfest Fundraiser
DESCRIPTION:A 'fun-raising' Oktoberfest for adult members of the school communities of St. Margaret Regional School- Buzzards Bay\, Saint Francis Xavier Preparatory School & St. John Paul II High School. Enjoy traditional Oktoberfest fare: Bratwurst\, pretzel and 1 adult beverage (craft beer or wine) included with your ticket. Purchase your ticket today!
X-ALT-DESC;FMTTYPE=text/html:A &lsquo\;fun-raising&rsquo\; Oktoberfest for adult members of the school communities of St. Margaret Regional School- Buzzards Bay\, Saint Francis Xavier Preparatory School &amp\; St. John Paul II High School. Enjoy traditional Oktoberfest fare: Bratwurst\, pretzel and 1 adult beverage (craft beer or wine) included with your ticket. Purchase your ticket today!
LOCATION:Cape Cod Beer 1336 Phinney's Lane Hyannis\, MA 02601
UID:e.3261.74
SEQUENCE:3
DTSTAMP:20260424T161023Z
URL:https://business.hyannis.com/events/details/oktoberfest-fundraiser-74
END:VEVENT

END:VCALENDAR
