BEGIN:VCALENDAR
VERSION:2.0
PRODID:-//ChamberMaster//Event Calendar 2.0//EN
METHOD:PUBLISH
X-PUBLISHED-TTL:P3D
REFRESH-INTERVAL:P3D
CALSCALE:GREGORIAN
BEGIN:VEVENT
DTSTART:20190117T233000Z
DTEND:20190118T010000Z
X-MICROSOFT-CDO-ALLDAYEVENT:FALSE
SUMMARY:Organic Wine Seminar
DESCRIPTION:Learn what the terms Organic\, Biodynamic and Sustainable really mean! Find out what's really in your bottle of wine and  why you should drink healthier 2019! Cost $10. Advance Registration required.
X-ALT-DESC;FMTTYPE=text/html:Learn what the terms <strong>Organic</strong>\,<strong> Biodynamic</strong> and<strong> Sustainable </strong>really mean! Find out what&rsquo\;s really in your bottle of wine and&nbsp\; why you should drink healthier 2019! Cost $10. Advance Registration required.
LOCATION:Cape Cod Package Store Fine Wine & SPirits 1495 Falmouth Road Centerville\, MA 02632 508-775-2065
UID:e.3261.173
SEQUENCE:3
DTSTAMP:20260424T113707Z
URL:https://business.hyannis.com/events/details/organic-wine-seminar-173
END:VEVENT

END:VCALENDAR
