BEGIN:VCALENDAR
VERSION:2.0
PRODID:-//ChamberMaster//Event Calendar 2.0//EN
METHOD:PUBLISH
X-PUBLISHED-TTL:P3D
REFRESH-INTERVAL:P3D
CALSCALE:GREGORIAN
BEGIN:VEVENT
DTSTART:20251003T133000Z
DTEND:20251003T153000Z
X-MICROSOFT-CDO-ALLDAYEVENT:FALSE
SUMMARY:Osterville Women’s Group
DESCRIPTION:Coffee Conversation friendship The 1st friday of every month at 9:30AM\, Newcomers always welcome Enjoy activities\, classes and special events all year with us. Open to all Barnstable County residents and beyond. contact: ostervillevillagewomensgroup@gmail.com
X-ALT-DESC;FMTTYPE=text/html:Coffee Conversation friendship The 1st friday of every month at 9:30AM\, Newcomers always welcome Enjoy activities\, classes and special events all year with us. Open to all Barnstable County residents and beyond. contact: ostervillevillagewomensgroup@gmail.com
LOCATION:Osterville Village Library 43 Wianno Ave Osterville\, MA 02655
UID:e.3261.3783
SEQUENCE:3
DTSTAMP:20260421T232118Z
URL:https://business.hyannis.com/events/details/osterville-women-s-group-3783
END:VEVENT

END:VCALENDAR
