BEGIN:VCALENDAR
VERSION:2.0
PRODID:-//ChamberMaster//Event Calendar 2.0//EN
METHOD:PUBLISH
X-PUBLISHED-TTL:P3D
REFRESH-INTERVAL:P3D
CALSCALE:GREGORIAN
BEGIN:VEVENT
DTSTART:20181001T210000Z
DTEND:20181001T223000Z
X-MICROSOFT-CDO-ALLDAYEVENT:FALSE
SUMMARY:Paddle & Pint
DESCRIPTION:We can't think of a better way to kick off the week than joining forces with Peace Love SUP to bring you Paddle & Pint night. This is a great opportunity to get out on the water and enjoy a fun social paddle for both beginners and those with more advanced skills. For those that want more of a challenge every week can offer a new experience including games on the water\, yoga or workouts. We will meet at Hathaway's Pond and spend about 1-1.5 hours exploring this quiet picturesque 20 acre kettle pond. Afterwards head over to Cape Cod Beer located just .3 miles down the road to enjoy a pint of the Cape's finest craft brewed (21+\, hard cider\, wine and soda are also available). Your investment includes all paddle equipment and a pint of your choice. Cost is $50 and includes all needed gear. Want to bring your own board? Choose the $25 no-gear ticket option. *Must have 3 registered in order to hold class. **Full refund provided if class is cancelled due to inclement weather. Tickets: https://peacelovesup.com/beer/
X-ALT-DESC;FMTTYPE=text/html:We can&rsquo\;t think of a better way to kick off the week than joining forces with Peace Love SUP to bring you Paddle &amp\; Pint night. This is a great opportunity to get out on the water and enjoy a fun social paddle for both beginners and those with more advanced skills. For those that want more of a challenge every week can offer a new experience including games on the water\, yoga or workouts. We will meet at Hathaway&rsquo\;s Pond and spend about 1-1.5 hours exploring this quiet picturesque 20 acre kettle pond. Afterwards head over to Cape Cod Beer located just .3 miles down the road to enjoy a pint of the Cape&rsquo\;s finest craft brewed (21+\, hard cider\, wine and soda are also available). Your investment includes all paddle equipment and a pint of your choice. Cost is $50 and includes all needed gear. Want to bring your own board? Choose the $25 no-gear ticket option. *Must have 3 registered in order to hold class. **Full refund provided if class is cancelled due to inclement weather. Tickets: https://peacelovesup.com/beer/
LOCATION:Hathaway's Pond Hyannis\, MA
UID:e.3261.59
SEQUENCE:3
DTSTAMP:20260424T160422Z
URL:https://business.hyannis.com/events/details/paddle-pint-10-01-2018-59
END:VEVENT

END:VCALENDAR
