BEGIN:VCALENDAR
VERSION:2.0
PRODID:-//ChamberMaster//Event Calendar 2.0//EN
METHOD:PUBLISH
X-PUBLISHED-TTL:P3D
REFRESH-INTERVAL:P3D
CALSCALE:GREGORIAN
BEGIN:VEVENT
DTSTART:20181125T160000Z
DTEND:20181125T190000Z
X-MICROSOFT-CDO-ALLDAYEVENT:FALSE
SUMMARY:Pet Photos with Santa!
DESCRIPTION:Pet Photos with Santa at Agway of Dennis on Nov 25\, 11am to 2pm. Only $10 with photographer Kim Roderiques!
X-ALT-DESC;FMTTYPE=text/html:Pet Photos with Santa at Agway of Dennis on Nov 25\, 11am to 2pm. Only $10 with photographer Kim Roderiques!
LOCATION:Agway of Dennis 686 Route 134 South Dennis\, MA
UID:e.3261.133
SEQUENCE:3
DTSTAMP:20260424T160627Z
URL:https://business.hyannis.com/events/details/pet-photos-with-santa-133
END:VEVENT

END:VCALENDAR
