BEGIN:VCALENDAR
VERSION:2.0
PRODID:-//ChamberMaster//Event Calendar 2.0//EN
METHOD:PUBLISH
X-PUBLISHED-TTL:P3D
REFRESH-INTERVAL:P3D
CALSCALE:GREGORIAN
BEGIN:VEVENT
DTSTART:20190101T170000Z
DTEND:20190101T183000Z
X-MICROSOFT-CDO-ALLDAYEVENT:FALSE
SUMMARY:Polar Plunge
DESCRIPTION:The Annual New Year's Day Polar Plunge at Smuggler's Beach in South Yarmouth. Proceeds to benefit the Friends of Yarmouth Council on Aging.
X-ALT-DESC;FMTTYPE=text/html:The Annual New Year&#39\;s Day Polar Plunge at Smuggler&#39\;s Beach in South Yarmouth. Proceeds to benefit the Friends of Yarmouth Council on Aging.
LOCATION:Smuggler's Beach South Yarmouth
UID:e.3261.97
SEQUENCE:3
DTSTAMP:20260424T113615Z
URL:https://business.hyannis.com/events/details/polar-plunge-97
END:VEVENT

END:VCALENDAR
