BEGIN:VCALENDAR
VERSION:2.0
PRODID:-//ChamberMaster//Event Calendar 2.0//EN
METHOD:PUBLISH
X-PUBLISHED-TTL:P3D
REFRESH-INTERVAL:P3D
CALSCALE:GREGORIAN
BEGIN:VEVENT
DTSTART:20251116T170000Z
DTEND:20251116T210000Z
X-MICROSOFT-CDO-ALLDAYEVENT:FALSE
SUMMARY:Pop-Up Holiday Craft Fair
DESCRIPTION:Join us for our Pop Up Holiday Craft Show on Sunday\, November 16th from Noon to 4 pm! Local Artisans! Ample Parking! Free Admission! Vendor Giveaways! Sample our house made Sangria! Don't miss this wonderful event at The Auld Triangle\, located in the heart of Hyannis!
X-ALT-DESC;FMTTYPE=text/html:Join us for our Pop Up Holiday Craft Show on Sunday\, November 16th from Noon to 4 pm! Local Artisans! Ample Parking! Free Admission! Vendor Giveaways! Sample our house made Sangria! Don&rsquo\;t miss this wonderful event at The Auld Triangle\, located in the heart of Hyannis!
LOCATION:The Auld Triangle 412 Main Street Hyannis\, MA
UID:e.3261.3852
SEQUENCE:3
DTSTAMP:20260422T010008Z
URL:https://business.hyannis.com/events/details/pop-up-holiday-craft-fair-3852
END:VEVENT

END:VCALENDAR
