BEGIN:VCALENDAR
VERSION:2.0
PRODID:-//ChamberMaster//Event Calendar 2.0//EN
METHOD:PUBLISH
X-PUBLISHED-TTL:P3D
REFRESH-INTERVAL:P3D
CALSCALE:GREGORIAN
BEGIN:VEVENT
DTSTART:20251129T160000Z
DTEND:20251129T190000Z
X-MICROSOFT-CDO-ALLDAYEVENT:FALSE
SUMMARY:Pop Up Shopping Event in the Atrium at the OVL!
DESCRIPTION:One of a kind gifts! Amazing glass works\, Handmade jewelry & gems\, Paintings & artwork\, Osterville prints and more ! at the Osterville Village Library Pop-up shopping event Saturday November 29th from 11am-2pm in the Anne Williams McGraw Atrium at the Osterville Village Library For more information\, please contact Amy Wolfe at awolfe@clamsnet.org or by calling the OVL directly at (508)428-5757
X-ALT-DESC;FMTTYPE=text/html:One of a kind gifts! Amazing glass works\, Handmade jewelry &amp\; gems\, Paintings &amp\; artwork\, Osterville prints and more ! at the Osterville Village Library Pop-up shopping event Saturday November 29th from 11am-2pm in the Anne Williams McGraw Atrium at the Osterville Village Library For more information\, please contact Amy Wolfe at awolfe@clamsnet.org or by calling the OVL directly at (508)428-5757
LOCATION:Anne Williams McGraw Atrium Osterville Village Library 43 Wianno Ave Osterville MA 02655
UID:e.3261.3854
SEQUENCE:3
DTSTAMP:20260421T232913Z
URL:https://business.hyannis.com/events/details/pop-up-shopping-event-in-the-atrium-at-the-ovl-3854
END:VEVENT

END:VCALENDAR
