BEGIN:VCALENDAR
VERSION:2.0
PRODID:-//ChamberMaster//Event Calendar 2.0//EN
METHOD:PUBLISH
X-PUBLISHED-TTL:P3D
REFRESH-INTERVAL:P3D
CALSCALE:GREGORIAN
BEGIN:VEVENT
DTSTART:20181006T190000Z
DTEND:20181006T220000Z
X-MICROSOFT-CDO-ALLDAYEVENT:FALSE
SUMMARY:Race to Hope
DESCRIPTION:Profits from the race benefit the Cape Cod Hospital Mugar Cancer Center & the Dana Farber genitourinary oncology program. After the race\, stay for the party with food\, live music by Super Soulshine\, beer & wine! Register now! 5k or 10k   take your pick when you register! Run or walk. All fitness levels welcome. Chip-timed course A pint for all racers over 21\, plus food & a band at the post-race party! First 500 registrants receive tech shirts\, all others get a cotton tee. Cash prizes for the 1st-5th place finishers in both the 5k & 10k. Prizes for the 1st-3rd in all age groups Prices Early Bird Pricing   $32.50 until August 31 Standard Registration   $35 until September 30 Same Weekend Registration   $40 Non-runner Party-Goers   $5 at the door Race Registration Age Groups 7-12 13-20 21-39 40-49 50-59 60-69 70-79 80+ Operated by SEMC Sports
X-ALT-DESC;FMTTYPE=text/html:Profits from the race benefit the Cape Cod Hospital Mugar Cancer Center &amp\; the Dana Farber genitourinary oncology program. After the race\, stay for the party with food\, live music by Super Soulshine\, beer &amp\; wine! Register now! 5k or 10k &ndash\; take your pick when you register! Run or walk. All fitness levels welcome. Chip-timed course A pint for all racers over 21\, plus food &amp\; a band at the post-race party! First 500 registrants receive tech shirts\, all others get a cotton tee. Cash prizes for the 1st-5th place finishers in both the 5k &amp\; 10k. Prizes for the 1st-3rd in all age groups Prices Early Bird Pricing &ndash\; $32.50 until August 31 Standard Registration &ndash\; $35 until September 30 Same Weekend Registration &ndash\; $40 Non-runner Party-Goers &ndash\; $5 at the door Race Registration Age Groups 7-12 13-20 21-39 40-49 50-59 60-69 70-79 80+ Operated by SEMC Sports
LOCATION:Cape Cod Beer 1336 Phinney's Lane Hyannis\, MA 02601
UID:e.3261.66
SEQUENCE:3
DTSTAMP:20260424T160423Z
URL:https://business.hyannis.com/events/details/race-to-hope-66
END:VEVENT

END:VCALENDAR
