BEGIN:VCALENDAR
VERSION:2.0
PRODID:-//ChamberMaster//Event Calendar 2.0//EN
METHOD:PUBLISH
X-PUBLISHED-TTL:P3D
REFRESH-INTERVAL:P3D
CALSCALE:GREGORIAN
BEGIN:VEVENT
DTSTART:20181109T233000Z
DTEND:20181110T023000Z
X-MICROSOFT-CDO-ALLDAYEVENT:FALSE
SUMMARY:Red Hot Red Cross Chili Fest
DESCRIPTION:Who Doesn't LOVE Chili? And Who Doesn't LOVE What the Red Cross Does in our Local Community? Help a veteran & have some fun doing it! This is a sell-out event every year   come and join us! You can either ENTER YOUR CHILI and compete for the coveted Red Cross Chili Bowl or just come and do what you do best   EAT & JUDGE chili! (Competitors: click the ticket link to enter your chili into the competition!.) Entry fee for Chili Makers: $10 General Admission: $10 or a 'Warmer Winters' donation** Admission includes: Free chili\, cornbread\, and popcorn Games and prizes Cash Bar   Beer & Wine & soft drinks **gift-wrapped NEW item in original packaging (gloves\, scarf\, hat or socks). Please label the item(s) with the size (L\, XL\, 2XL & 3XL preferred)
X-ALT-DESC;FMTTYPE=text/html:Who Doesn&rsquo\;t LOVE Chili? And Who Doesn&rsquo\;t LOVE What the Red Cross Does in our Local Community? Help a veteran &amp\; have some fun doing it! This is a sell-out event every year &ndash\; come and join us! You can either ENTER YOUR CHILI and compete for the coveted Red Cross Chili Bowl or just come and do what you do best &ndash\; EAT &amp\; JUDGE chili! (Competitors: click the ticket link to enter your chili into the competition!.) Entry fee for Chili Makers: $10 General Admission: $10 or a &lsquo\;Warmer Winters&rsquo\; donation** Admission includes: Free chili\, cornbread\, and popcorn Games and prizes Cash Bar &ndash\; Beer &amp\; Wine &amp\; soft drinks **gift-wrapped NEW item in original packaging (gloves\, scarf\, hat or socks). Please label the item(s) with the size (L\, XL\, 2XL &amp\; 3XL preferred)
LOCATION:Cape Cod Beer 1336 Phinney's Lane Hyannis\, MA 02601
UID:e.3261.94
SEQUENCE:3
DTSTAMP:20260424T143829Z
URL:https://business.hyannis.com/events/details/red-hot-red-cross-chili-fest-94
END:VEVENT

END:VCALENDAR
