BEGIN:VCALENDAR
VERSION:2.0
PRODID:-//ChamberMaster//Event Calendar 2.0//EN
METHOD:PUBLISH
X-PUBLISHED-TTL:P3D
REFRESH-INTERVAL:P3D
CALSCALE:GREGORIAN
BEGIN:VEVENT
DTSTART:20181127T230000Z
DTEND:20181128T010000Z
X-MICROSOFT-CDO-ALLDAYEVENT:FALSE
SUMMARY:Retailers Roundtable
DESCRIPTION:Calling all Cape Cod Retailers! Join us for an evening of talking shop   specifically retail! This is an open forum for business owners\, retail managers\, and retail staff to talk about the challenges in our industry\, what works and doesn't work for them\, and share best practices. Our hope is that everyone brings interesting conversation to table and takes away something to help them improve their jobs\, their business or their industry. Multiple people from the same company are welcome! Where: Cape Cod Beer When: Tuesdays: 9/25\, 10/30 and 11/27 6-8pm We are a totally grass roots effort so please help spread the word! RSVP by email info@capecodbeer.com with the subject Retailers roundtable
X-ALT-DESC;FMTTYPE=text/html:Calling all Cape Cod Retailers! Join us for an evening of talking shop &ndash\; specifically retail! This is an open forum for business owners\, retail managers\, and retail staff to talk about the challenges in our industry\, what works and doesn&rsquo\;t work for them\, and share best practices. Our hope is that everyone brings interesting conversation to table and takes away something to help them improve their jobs\, their business or their industry. Multiple people from the same company are welcome! Where: Cape Cod Beer When: Tuesdays: 9/25\, 10/30 and 11/27 6-8pm We are a totally grass roots effort so please help spread the word! RSVP by email info@capecodbeer.com with the subject Retailers roundtable
LOCATION:Cape Cod Beer 1336 Phinney's Lane Hyannis\, MA 02601
UID:e.3261.78
SEQUENCE:3
DTSTAMP:20260424T143631Z
URL:https://business.hyannis.com/events/details/retailers-roundtable-11-27-2018-78
END:VEVENT

END:VCALENDAR
