BEGIN:VCALENDAR
VERSION:2.0
PRODID:-//ChamberMaster//Event Calendar 2.0//EN
METHOD:PUBLISH
X-PUBLISHED-TTL:P3D
REFRESH-INTERVAL:P3D
CALSCALE:GREGORIAN
BEGIN:VEVENT
DTSTART:20181207T230000Z
DTEND:20181208T030000Z
X-MICROSOFT-CDO-ALLDAYEVENT:FALSE
SUMMARY:Royal Family Kids Christmas Gala
DESCRIPTION:Royal Family Kids Christmas Gala Fundraiser for Cape Cod's foster children Three course plated dinner\, coffee\, tea Live Music\, silent auction\, cash bar
X-ALT-DESC;FMTTYPE=text/html:Royal Family Kids Christmas Gala Fundraiser for Cape Cod&#39\;s foster children Three course plated dinner\, coffee\, tea Live Music\, silent auction\, cash bar
LOCATION:Resort and Conference Center at Hyannis 35 Scudder Avenue Hyannis\, MA 02601
UID:e.3261.91
SEQUENCE:3
DTSTAMP:20260424T132504Z
URL:https://business.hyannis.com/events/details/royal-family-kids-christmas-gala-91
END:VEVENT

END:VCALENDAR
