BEGIN:VCALENDAR
VERSION:2.0
PRODID:-//ChamberMaster//Event Calendar 2.0//EN
METHOD:PUBLISH
X-PUBLISHED-TTL:P3D
REFRESH-INTERVAL:P3D
CALSCALE:GREGORIAN
BEGIN:VEVENT
DTSTART:20250926T023000Z
DTEND:20250929T033000Z
X-MICROSOFT-CDO-ALLDAYEVENT:FALSE
SUMMARY:Scavenger Hunt at the Art Barn! FREE!
DESCRIPTION:Thu\, Sep 25 & Sun\, Sep 28\, 1030-1130am. Oh no! The Art Chest with all our supplies has gone missing! Join the crew of the Art Barn for a thrilling scavenger hunt to solve the mystery and save the day. Use your wits\, follow the clues\, and help bring our art supplies back! Join in this fun FREE family activity on Thursday OR Sunday on the grounds of the Art Barn. All participants get a sticker and a free button!
X-ALT-DESC;FMTTYPE=text/html:Thu\, Sep 25 &amp\; Sun\, Sep 28\, 1030-1130am. Oh no! The Art Chest with all our supplies has gone missing! Join the crew of the Art Barn for a thrilling scavenger hunt to solve the mystery and save the day. Use your wits\, follow the clues\, and help bring our art supplies back! Join in this fun FREE family activity on Thursday OR Sunday on the grounds of the Art Barn. All participants get a sticker and a free button!
LOCATION:The Guyer Art Barn\, 250 South Street\, Hyannis
UID:e.3261.3775
SEQUENCE:3
DTSTAMP:20260421T214041Z
URL:https://business.hyannis.com/events/details/scavenger-hunt-at-the-art-barn-free-3775
END:VEVENT

END:VCALENDAR
