BEGIN:VCALENDAR
VERSION:2.0
PRODID:-//ChamberMaster//Event Calendar 2.0//EN
METHOD:PUBLISH
X-PUBLISHED-TTL:P3D
REFRESH-INTERVAL:P3D
CALSCALE:GREGORIAN
BEGIN:VEVENT
DTSTART:20250730T220000Z
DTEND:20250730T230000Z
X-MICROSOFT-CDO-ALLDAYEVENT:FALSE
SUMMARY:Seaside Cannabis and PIXY 103 present Homegrown on the Harbor
DESCRIPTION:Every Wednesday for 6 weeks starting July 9th through August 13th\, Seaside Cannabis and Pixy 103 will take over Aselton Park on Hyannis Harbor with Homegrown on the Harbor! Every week will be a different Cape Cod band playing originals and cover songs from 6:00-7:30pm. This event is put on in conjunction with the Hyannis HyArts Cultural District\n\nLINEUP:\n\nJuly 30: NIKKI & THE BARN BOYS\n\nAugust 6: DAN LAWSON BAND\n\nAugust 13: DRED BUFFALO
X-ALT-DESC;FMTTYPE=text/html:Every Wednesday for 6 weeks starting July 9th through August 13th\, Seaside Cannabis and Pixy 103 will take over Aselton Park on Hyannis Harbor with <strong>Homegrown on the Harbor! E</strong>very week will be a different Cape Cod band playing originals and cover songs from 6:00-7:30pm. This event is put on in conjunction with the Hyannis HyArts Cultural District<br />\nLINEUP:<br />\nJuly 30: NIKKI &amp\; THE BARN BOYS<br />\nAugust 6: DAN LAWSON BAND<br />\nAugust 13: DRED BUFFALO
LOCATION:Asleton Park\, Hyannis
UID:e.3261.3523
SEQUENCE:3
DTSTAMP:20260421T164924Z
URL:https://business.hyannis.com/events/details/seaside-cannabis-and-pixy-103-present-homegrown-on-the-harbor-3523
END:VEVENT

END:VCALENDAR
