BEGIN:VCALENDAR
VERSION:2.0
PRODID:-//ChamberMaster//Event Calendar 2.0//EN
METHOD:PUBLISH
X-PUBLISHED-TTL:P3D
REFRESH-INTERVAL:P3D
CALSCALE:GREGORIAN
BEGIN:VEVENT
DTSTART:20190206T233000Z
DTEND:20190207T020000Z
X-MICROSOFT-CDO-ALLDAYEVENT:FALSE
SUMMARY:See the 2018 Red Sox World Series Trophy!
DESCRIPTION:The Boston Red Sox 2018 Championship trophy will make its first public appearance on Cape Cod\, Wednesday\, Feb 6 from 6:30-9 pm here at Cape Cod Beer! There will be photo opportunities provided with the trophy. The event is sponsored by the Hyannis Harbor Hawks of the Cape Cod Baseball League. Admission is $10 for adults\, $5 kids ages 6-10 and kids 5 and under are free. All attendees will receive a special giveaway. A silent auction will be available for bidding. All proceeds will benefit the Hyannis Athletic Association field improvement campaign. Cape Cod Beer is located at 1336 Phinney's Lane\, Hyannis.
X-ALT-DESC;FMTTYPE=text/html:The Boston Red Sox 2018 Championship trophy will make its first public appearance on Cape Cod\, Wednesday\, Feb 6 from 6:30-9 pm here at Cape Cod Beer! There will be photo opportunities provided with the trophy. The event is sponsored by the Hyannis Harbor Hawks of the Cape Cod Baseball League. Admission is $10 for adults\, $5 kids ages 6-10 and kids 5 and under are free. All attendees will receive a special giveaway. A silent auction will be available for bidding. All proceeds will benefit the Hyannis Athletic Association field improvement campaign. Cape Cod Beer is located at 1336 Phinney&rsquo\;s Lane\, Hyannis.
LOCATION:Cape Cod Beer
UID:e.3261.188
SEQUENCE:3
DTSTAMP:20260424T114121Z
URL:https://business.hyannis.com/events/details/see-the-2018-red-sox-world-series-trophy-188
END:VEVENT

END:VCALENDAR
