BEGIN:VCALENDAR
VERSION:2.0
PRODID:-//ChamberMaster//Event Calendar 2.0//EN
METHOD:PUBLISH
X-PUBLISHED-TTL:P3D
REFRESH-INTERVAL:P3D
CALSCALE:GREGORIAN
BEGIN:VEVENT
DTSTART:20190129T143000Z
DTEND:20190129T203000Z
X-MICROSOFT-CDO-ALLDAYEVENT:FALSE
SUMMARY:Shepley Community Blood Drive
DESCRIPTION:Blood Drive
X-ALT-DESC;FMTTYPE=text/html:Blood Drive
LOCATION:Shepley 75 Ben Franklin Way Hyannis
UID:e.3261.179
SEQUENCE:3
DTSTAMP:20260424T130617Z
URL:https://business.hyannis.com/events/details/shepley-community-blood-drive-179
END:VEVENT

END:VCALENDAR
