BEGIN:VCALENDAR
VERSION:2.0
PRODID:-//ChamberMaster//Event Calendar 2.0//EN
METHOD:PUBLISH
X-PUBLISHED-TTL:P3D
REFRESH-INTERVAL:P3D
CALSCALE:GREGORIAN
BEGIN:VEVENT
DTSTART:20190110T233000Z
DTEND:20190111T013000Z
X-MICROSOFT-CDO-ALLDAYEVENT:FALSE
SUMMARY:Showcase & Celebration
DESCRIPTION:Join EforAll Cape Cod at the 2018 Fall Accelerator Showcase & Celebration with keynote speaker Dan Wolfe of Cape Air. This is the public launch of the businesses graduating from the 2018 Fall EforAll Cape Cod Business Accelerator. Cash prizes will be awarded to selected accelerator graduates as seed money to launch their businesses! All accelerator graduates will have a table presentation. Check them out\, give them advice & wish them luck! Network with business\, government\, nonprofit & community leaders during the cocktail hour at Cape Cod Coffee inside the Barnstable Municipal Airport. Seating is limited so RSVP soon!
X-ALT-DESC;FMTTYPE=text/html:Join EforAll Cape Cod at the 2018 Fall Accelerator Showcase &amp\; Celebration with keynote speaker Dan Wolfe of Cape Air. This is the public launch of the businesses graduating from the 2018 Fall EforAll Cape Cod Business Accelerator. Cash prizes will be awarded to selected accelerator graduates as seed money to launch their businesses! All accelerator graduates will have a table presentation. Check them out\, give them advice &amp\; wish them luck! Network with business\, government\, nonprofit &amp\; community leaders during the cocktail hour at Cape Cod Coffee inside the Barnstable Municipal Airport. Seating is limited so RSVP soon!
LOCATION:Cape Cod Coffee Inside Barnstable Municipal Airport 480 Barnstable Road Hyannis\, MA 02601
UID:e.3261.154
SEQUENCE:3
DTSTAMP:20260424T130225Z
URL:https://business.hyannis.com/events/details/showcase-celebration-154
END:VEVENT

END:VCALENDAR
