BEGIN:VCALENDAR
VERSION:2.0
PRODID:-//ChamberMaster//Event Calendar 2.0//EN
METHOD:PUBLISH
X-PUBLISHED-TTL:P3D
REFRESH-INTERVAL:P3D
CALSCALE:GREGORIAN
BEGIN:VEVENT
DTSTART:20181020T170000Z
DTEND:20181020T210000Z
X-MICROSOFT-CDO-ALLDAYEVENT:FALSE
SUMMARY:SHUCK! A day of oysters and beer.
DESCRIPTION:We've teamed up with Big Rock Oyster\, Cape Cod Oysters\, The Barnstable Clean Water Coalition & Cape Cod Beer (as our leader) for an epic day of oysters & beer!\n\nTry oysters from all over Cape Cod\, enjoy live music by 57 Heavy & beer brewed right on site in Hyannis!\n\nChildren under 12 are free.\n\nGET YOUR TICKETS NOW
X-ALT-DESC;FMTTYPE=text/html:<h2 style="font-family: Calibri\, Arial\, sans-serif\; margin: 24px 0px\; padding: 0px\; line-height: 1.6\; color: rgb(68\, 68\, 68)\; font-size: 18px\; background-color: rgb(255\, 255\, 255)\;">We&rsquo\;ve teamed up with&nbsp\;<a href="http://www.bigrockoyster.com/" rel="noopener" style="outline: none\; text-decoration-line: none\; color: rgb(0\, 0\, 0)\; transition: all 0.3s ease-in-out\;" target="_blank">Big Rock Oyster</a>\, Cape Cod Oysters\,&nbsp\;<a href="http://bcleanwater.org/" rel="noopener" style="outline: none\; text-decoration-line: none\; color: rgb(0\, 0\, 0)\; transition: all 0.3s ease-in-out\;" target="_blank">The Barnstable Clean Water Coalition</a>&nbsp\;&amp\;&nbsp\;<a href="https://www.facebook.com/hyannischamber/" rel="noopener" style="outline: none\; text-decoration-line: none\; color: rgb(0\, 0\, 0)\; transition: all 0.3s ease-in-out\;" target="_blank">Cape</a>&nbsp\;Cod Beer (as our leader)&nbsp\;for an epic day of oysters &amp\; beer!</h2>\n\n<h2 style="font-family: Calibri\, Arial\, sans-serif\; margin: 24px 0px\; padding: 0px\; line-height: 1.6\; color: rgb(68\, 68\, 68)\; font-size: 18px\; background-color: rgb(255\, 255\, 255)\;">Try oysters from all over Cape Cod\, enjoy live music by&nbsp\;<a href="http://www.57heavy.com/" rel="noopener" style="outline: none\; text-decoration-line: none\; color: rgb(0\, 0\, 0)\; transition: all 0.3s ease-in-out\;" target="_blank">57 Heavy</a>&nbsp\;&amp\; beer brewed right on site in Hyannis!</h2>\n\n<p style="margin: 0px 0px 10px\; line-height: 1.7\; font-family: Trebuchet\, Tahoma\, sans-serif\; font-size: 16px\; background-color: rgb(255\, 255\, 255)\;">Children under 12 are free.</p>\n\n<p style="margin: 0px 0px 10px\; line-height: 1.7\; font-family: Trebuchet\, Tahoma\, sans-serif\; font-size: 16px\; background-color: rgb(255\, 255\, 255)\;"><a href="https://capecodbeer.com/shop/shuck/" rel="noopener" style="outline: none\; text-decoration-line: none\; color: rgb(0\, 0\, 0)\; transition: all 0.3s ease-in-out\;" target="_blank"><span style="font-size: 14pt\; color: rgb(0\, 0\, 255)\;"><strong>GET YOUR TICKETS NOW</strong></span></a></p>\n\n<p style="margin: 0px 0px 10px\; line-height: 1.7\; font-family: Trebuchet\, Tahoma\, sans-serif\; font-size: 16px\; background-color: rgb(255\, 255\, 255)\;">&nbsp\;</p>\n
LOCATION:Cape Cod Beer 1336 Phinney's Lane Hyannis\, MA 02660
UID:e.3261.37
SEQUENCE:3
DTSTAMP:20260424T161557Z
URL:https://business.hyannis.com/events/details/shuck-a-day-of-oysters-and-beer-37
END:VEVENT

END:VCALENDAR
