BEGIN:VCALENDAR
VERSION:2.0
PRODID:-//ChamberMaster//Event Calendar 2.0//EN
METHOD:PUBLISH
X-PUBLISHED-TTL:P3D
REFRESH-INTERVAL:P3D
CALSCALE:GREGORIAN
BEGIN:VEVENT
DTSTART:20181015T140000Z
DTEND:20181015T220000Z
X-MICROSOFT-CDO-ALLDAYEVENT:FALSE
SUMMARY:Shucker's Reward Oyster Stout Beer Release
DESCRIPTION:Based on an Irish Extra Stout\, this full-bodied black beer has a delicious roasted malt character with flavors and aromas of coffee and chocolate. Over 20 pounds of whole oysters sourced from 14 different Cape Cod towns (and a quahog shell from Harwich) were added to the kettle during the boiling of this brew\, adding minerals from the shells as well as mild flavors and aromas to this historic and memorable beer. What exactly does an oyster stout taste like? Check out this tasting video with Brewmaster Todd Marcus: https://youtu.be/AmsyZMVD0GA
X-ALT-DESC;FMTTYPE=text/html:Based on an Irish Extra Stout\, this full-bodied black beer has a delicious roasted malt character with flavors and aromas of coffee and chocolate.&nbsp\;Over 20 pounds of whole oysters sourced from 14 different Cape Cod towns (and a quahog shell from Harwich) were added to the kettle during the boiling of this brew\, adding minerals from the shells as well as mild flavors and aromas to this historic and memorable beer. What exactly does an oyster stout taste like? Check out this tasting video with Brewmaster Todd Marcus: https://youtu.be/AmsyZMVD0GA
LOCATION:Cape Cod Beer 1336 Phinney's Lane Hyannis\, MA 02601
UID:e.3261.68
SEQUENCE:3
DTSTAMP:20260424T161322Z
URL:https://business.hyannis.com/events/details/shucker-s-reward-oyster-stout-beer-release-68
END:VEVENT

END:VCALENDAR
