BEGIN:VCALENDAR
VERSION:2.0
PRODID:-//ChamberMaster//Event Calendar 2.0//EN
METHOD:PUBLISH
X-PUBLISHED-TTL:P3D
REFRESH-INTERVAL:P3D
CALSCALE:GREGORIAN
BEGIN:VEVENT
DTSTART:20181109T220000Z
DTEND:20181110T010000Z
X-MICROSOFT-CDO-ALLDAYEVENT:FALSE
SUMMARY:Sip ~ Savor ~ See
DESCRIPTION:Artist Reception and Wine Tasting featuring photographs and artistic interpretations by Bob Singer\, throughout the month of November. Mr Singer is a juried Master Artist in fine art photography\, as well as an instructor of photography conducting photo workshops\, tours\, & seminars at the Cape Cod Art Center and the Cotuit Center for the Arts.
X-ALT-DESC;FMTTYPE=text/html:Artist Reception and Wine Tasting featuring photographs and artistic interpretations by Bob Singer\, throughout the month of November. Mr Singer is a juried Master Artist in fine art photography\, as well as an instructor of photography conducting photo workshops\, tours\, &amp\; seminars at the Cape Cod Art Center and the Cotuit Center for the Arts.
LOCATION:Cape Cod Package Store Fine Wine & Spirits
UID:e.3261.129
SEQUENCE:3
DTSTAMP:20260424T160328Z
URL:https://business.hyannis.com/events/details/sip-savor-see-129
END:VEVENT

END:VCALENDAR
