BEGIN:VCALENDAR
VERSION:2.0
PRODID:-//ChamberMaster//Event Calendar 2.0//EN
METHOD:PUBLISH
X-PUBLISHED-TTL:P3D
REFRESH-INTERVAL:P3D
CALSCALE:GREGORIAN
BEGIN:VEVENT
DTSTART:20181113T210000Z
DTEND:20181114T010000Z
X-MICROSOFT-CDO-ALLDAYEVENT:FALSE
SUMMARY:Sip & Shop for Sea Turtles
DESCRIPTION:Browse art from local artisans and get a jump on your holiday shopping! Event proceeds will help rehabilitate stranded\, cold-stunned sea turtles.
X-ALT-DESC;FMTTYPE=text/html:Browse art from local artisans and get a jump on your holiday shopping! Event proceeds will help rehabilitate stranded\, cold-stunned sea turtles.
LOCATION:Alden Park\, 160 Colony Place\, Plymouth\, MA
UID:e.3261.110
SEQUENCE:3
DTSTAMP:20260424T143829Z
URL:https://business.hyannis.com/events/details/sip-shop-for-sea-turtles-110
END:VEVENT

END:VCALENDAR
