BEGIN:VCALENDAR
VERSION:2.0
PRODID:-//ChamberMaster//Event Calendar 2.0//EN
METHOD:PUBLISH
X-PUBLISHED-TTL:P3D
REFRESH-INTERVAL:P3D
CALSCALE:GREGORIAN
BEGIN:VEVENT
DTSTART:20250626T170000Z
DTEND:20250626T210000Z
X-MICROSOFT-CDO-ALLDAYEVENT:FALSE
SUMMARY:Slow Clay: A Coil-Building Workshop for Beginners
DESCRIPTION:Thu\, Jun 26\, 1-5pm. Are you looking for a new way to work with clay? Exploring how to expand your expressive potential with clay? This four-hour hands-on workshop is designed to introduce you to the art of using coils to hand-build with clay. Participants will learn how coil building can be used to create a multitude of forms\, from simple\, elegant vessels to larger abstract sculptural shapes. Demonstration and individual instruction will be given throughout the workshop. This introductory class is perfect for those taking their first steps in clay\, or for experienced potters as an alternative to their wheel throwing skills. Come enjoy the tactile and relaxing pleasures of "slow clay." All materials included. Students may choose one piece from the workshop to be glazed and fired. $85 Members\, $95 Not-Yet-Members. To register visit www.cultural-center.org or call 508-394-7100. Cultural Center of Cape Cod\, 307 Old Main St.\, South Yarmouth.
X-ALT-DESC;FMTTYPE=text/html:Thu\, Jun 26\, 1-5pm. Are you looking for a new way to work with clay? Exploring how to expand your expressive potential with clay? This four-hour hands-on workshop is designed to introduce you to the art of using coils to hand-build with clay. Participants will learn how coil building can be used to create a multitude of forms\, from simple\, elegant vessels to larger abstract sculptural shapes. Demonstration and individual instruction will be given throughout the workshop. This introductory class is perfect for those taking their first steps in clay\, or for experienced potters as an alternative to their wheel throwing skills. Come enjoy the tactile and relaxing pleasures of &ldquo\;slow clay.&rdquo\; All materials included. Students may choose one piece from the workshop to be glazed and fired. $85 Members\, $95 Not-Yet-Members. To register visit www.cultural-center.org or call 508-394-7100. Cultural Center of Cape Cod\, 307 Old Main St.\, South Yarmouth.
LOCATION:Cultural Center of Cape Cod\, 307 Old Main St.\, South Yarmouth
UID:e.3261.3388
SEQUENCE:3
DTSTAMP:20260421T150435Z
URL:https://business.hyannis.com/events/details/slow-clay-a-coil-building-workshop-for-beginners-3388
END:VEVENT

END:VCALENDAR
