BEGIN:VCALENDAR
VERSION:2.0
PRODID:-//ChamberMaster//Event Calendar 2.0//EN
METHOD:PUBLISH
X-PUBLISHED-TTL:P3D
REFRESH-INTERVAL:P3D
CALSCALE:GREGORIAN
BEGIN:VEVENT
DTSTART:20181029T193000Z
DTEND:20181029T233000Z
X-MICROSOFT-CDO-ALLDAYEVENT:FALSE
SUMMARY:Spooky Slpash
DESCRIPTION:Join Us for a Halloween Open House! Come in costume! Learn about spooky ocean animals! Enjoy arts and crafts\, and games\, and refreshments. Tour our Marine Animal Hospital and meet our seal and turtle patients.
X-ALT-DESC;FMTTYPE=text/html:Join Us for a Halloween Open House! Come in costume! Learn about spooky ocean animals! Enjoy arts and crafts\, and games\, and refreshments. Tour our Marine Animal Hospital and meet our seal and turtle patients.
LOCATION:120 Main Street Buzzards Bay\, MA 02532-0269
UID:e.3261.109
SEQUENCE:3
DTSTAMP:20260424T160216Z
URL:https://business.hyannis.com/events/details/spooky-slpash-109
END:VEVENT

END:VCALENDAR
